BEGIN:VCALENDAR
VERSION:2.0
PRODID:-//Squarespace Inc/Squarespace 6//v6//EN
BEGIN:VEVENT
UID:5162a866e4b0c98010ace31e@squarespace.com
DTSTAMP:20130401T182123Z
DTSTART:20130415T183000Z
DTEND:20130415T193000Z
SUMMARY:Event One
END:VEVENT
END:VCALENDAR
